BEGIN:VCALENDAR
VERSION:2.0
PRODID:-//Joyful Learning Canada - ECPv6.15.20//NONSGML v1.0//EN
CALSCALE:GREGORIAN
METHOD:PUBLISH
X-ORIGINAL-URL:https://joyfullearningcanada.ca
X-WR-CALDESC:Events for Joyful Learning Canada
REFRESH-INTERVAL;VALUE=DURATION:PT1H
X-Robots-Tag:noindex
X-PUBLISHED-TTL:PT1H
BEGIN:VTIMEZONE
TZID:America/Vancouver
BEGIN:DAYLIGHT
TZOFFSETFROM:-0800
TZOFFSETTO:-0700
TZNAME:PDT
DTSTART:20220313T100000
END:DAYLIGHT
BEGIN:STANDARD
TZOFFSETFROM:-0700
TZOFFSETTO:-0800
TZNAME:PST
DTSTART:20221106T090000
END:STANDARD
BEGIN:DAYLIGHT
TZOFFSETFROM:-0800
TZOFFSETTO:-0700
TZNAME:PDT
DTSTART:20230312T100000
END:DAYLIGHT
BEGIN:STANDARD
TZOFFSETFROM:-0700
TZOFFSETTO:-0800
TZNAME:PST
DTSTART:20231105T090000
END:STANDARD
BEGIN:DAYLIGHT
TZOFFSETFROM:-0800
TZOFFSETTO:-0700
TZNAME:PDT
DTSTART:20240310T100000
END:DAYLIGHT
BEGIN:STANDARD
TZOFFSETFROM:-0700
TZOFFSETTO:-0800
TZNAME:PST
DTSTART:20241103T090000
END:STANDARD
END:VTIMEZONE
BEGIN:VEVENT
DTSTART;TZID=America/Vancouver:20230427T110000
DTEND;TZID=America/Vancouver:20230427T235500
DTSTAMP:20260419T213609
CREATED:20221122T210233Z
LAST-MODIFIED:20230109T212031Z
UID:37818-1682593200-1682639700@joyfullearningcanada.ca
SUMMARY:Coast Salish Art | Lesson 13 - Mouse
DESCRIPTION:Join us for another Coast Salish Art class! \nThis class will include a traditional oral story\, drawing practice of the basic Coast Salish shapes\, and a guided drawing of an animal from the story. \nAndrea is from the Lyackson First Nation of the Hul’qumi’num speaking Peoples\, who are based on Valdez Island in the Salish Sea. Andrea strives to express her People’s history and all our futures using her art. She focuses on animals and scenes of the West Coast of Canada and our intricate relationships with them. \nEvent Details\nWHAT: Art Class with Andrea Fritz\nDATE: Thursday\, April 27th\, 2023 @ 11am PT\nLENGTH: 45 Minutes\nDESIGNED FOR: Grade 2-5 – Everyone Welcome\nANIMAL: TBA \n  \n\n\n 
URL:https://joyfullearningcanada.ca/event/coast-salish-art-lesson-13/
CATEGORIES:Coast Salish Art,Indigenous Voices
ATTACH;FMTTYPE=image/png:https://joyfullearningcanada.ca/wp-content/uploads/2023/01/JLC-Website-Event-Images-1200-×-628-px.png
END:VEVENT
END:VCALENDAR