BEGIN:VCALENDAR
VERSION:2.0
PRODID:-//Joyful Learning Canada - ECPv6.15.20//NONSGML v1.0//EN
CALSCALE:GREGORIAN
METHOD:PUBLISH
X-ORIGINAL-URL:https://joyfullearningcanada.ca
X-WR-CALDESC:Events for Joyful Learning Canada
REFRESH-INTERVAL;VALUE=DURATION:PT1H
X-Robots-Tag:noindex
X-PUBLISHED-TTL:PT1H
BEGIN:VTIMEZONE
TZID:America/Vancouver
BEGIN:DAYLIGHT
TZOFFSETFROM:-0800
TZOFFSETTO:-0700
TZNAME:PDT
DTSTART:20220313T100000
END:DAYLIGHT
BEGIN:STANDARD
TZOFFSETFROM:-0700
TZOFFSETTO:-0800
TZNAME:PST
DTSTART:20221106T090000
END:STANDARD
BEGIN:DAYLIGHT
TZOFFSETFROM:-0800
TZOFFSETTO:-0700
TZNAME:PDT
DTSTART:20230312T100000
END:DAYLIGHT
BEGIN:STANDARD
TZOFFSETFROM:-0700
TZOFFSETTO:-0800
TZNAME:PST
DTSTART:20231105T090000
END:STANDARD
BEGIN:DAYLIGHT
TZOFFSETFROM:-0800
TZOFFSETTO:-0700
TZNAME:PDT
DTSTART:20240310T100000
END:DAYLIGHT
BEGIN:STANDARD
TZOFFSETFROM:-0700
TZOFFSETTO:-0800
TZNAME:PST
DTSTART:20241103T090000
END:STANDARD
END:VTIMEZONE
BEGIN:VEVENT
DTSTART;TZID=America/Vancouver:20230926T093000
DTEND;TZID=America/Vancouver:20230926T101500
DTSTAMP:20260419T130507
CREATED:20230906T205823Z
LAST-MODIFIED:20230911T172529Z
UID:39441-1695720600-1695723300@joyfullearningcanada.ca
SUMMARY:Orange Shirt Day 2023 | David A. Robertson - Virtual Author Visit
DESCRIPTION:
URL:https://joyfullearningcanada.ca/event/orange-shirt-day-2023-david-a-robertson-virtual-author-visit/
CATEGORIES:Indigenous Voices
ATTACH;FMTTYPE=image/png:https://joyfullearningcanada.ca/wp-content/uploads/2023/09/Author-Visits-David-Robertson-Orange-Shirt-Day.png
END:VEVENT
END:VCALENDAR