BEGIN:VCALENDAR
VERSION:2.0
PRODID:-//Joyful Learning Canada - ECPv6.15.20//NONSGML v1.0//EN
CALSCALE:GREGORIAN
METHOD:PUBLISH
X-WR-CALNAME:Joyful Learning Canada
X-ORIGINAL-URL:https://joyfullearningcanada.ca
X-WR-CALDESC:Events for Joyful Learning Canada
REFRESH-INTERVAL;VALUE=DURATION:PT1H
X-Robots-Tag:noindex
X-PUBLISHED-TTL:PT1H
BEGIN:VTIMEZONE
TZID:America/Vancouver
BEGIN:DAYLIGHT
TZOFFSETFROM:-0800
TZOFFSETTO:-0700
TZNAME:PDT
DTSTART:20210314T100000
END:DAYLIGHT
BEGIN:STANDARD
TZOFFSETFROM:-0700
TZOFFSETTO:-0800
TZNAME:PST
DTSTART:20211107T090000
END:STANDARD
BEGIN:DAYLIGHT
TZOFFSETFROM:-0800
TZOFFSETTO:-0700
TZNAME:PDT
DTSTART:20220313T100000
END:DAYLIGHT
BEGIN:STANDARD
TZOFFSETFROM:-0700
TZOFFSETTO:-0800
TZNAME:PST
DTSTART:20221106T090000
END:STANDARD
BEGIN:DAYLIGHT
TZOFFSETFROM:-0800
TZOFFSETTO:-0700
TZNAME:PDT
DTSTART:20230312T100000
END:DAYLIGHT
BEGIN:STANDARD
TZOFFSETFROM:-0700
TZOFFSETTO:-0800
TZNAME:PST
DTSTART:20231105T090000
END:STANDARD
END:VTIMEZONE
BEGIN:VEVENT
DTSTART;TZID=America/Vancouver:20220405T093000
DTEND;TZID=America/Vancouver:20220405T101500
DTSTAMP:20260420T144108
CREATED:20220405T163043Z
LAST-MODIFIED:20221020T205058Z
UID:37019-1649151000-1649153700@joyfullearningcanada.ca
SUMMARY:Virtual Author Visit | Melanie Heyworth - Just Right For You
DESCRIPTION:
URL:https://joyfullearningcanada.ca/event/virtual-author-visit-melanie-heyworth-just-right-for-you/
CATEGORIES:Author Visits,Disability Awareness,On Demand Events
ATTACH;FMTTYPE=image/png:https://joyfullearningcanada.ca/wp-content/uploads/2022/10/Author-Visit-Melanie-Heyworth-Autism-Awareness-Just-Right-For-You.png
END:VEVENT
BEGIN:VEVENT
DTSTART;TZID=America/Vancouver:20220406T093000
DTEND;TZID=America/Vancouver:20220406T101500
DTSTAMP:20260420T144108
CREATED:20220406T163028Z
LAST-MODIFIED:20221022T211312Z
UID:37038-1649237400-1649240100@joyfullearningcanada.ca
SUMMARY:Virtual Field Trip | NatureKids BC - Exploring Our Forests
DESCRIPTION:
URL:https://joyfullearningcanada.ca/event/virtual-field-trip-nature-kids-bc-exploring-our-forests-2/
CATEGORIES:On Demand Events,We Are All Connected
ATTACH;FMTTYPE=image/png:https://joyfullearningcanada.ca/wp-content/uploads/2022/10/NatureKids-BC-Virtual-Field-Trip-Exploring-Our-Forests.png
END:VEVENT
BEGIN:VEVENT
DTSTART;TZID=America/Vancouver:20220412T093000
DTEND;TZID=America/Vancouver:20220412T101500
DTSTAMP:20260420T144108
CREATED:20220412T163034Z
LAST-MODIFIED:20221022T171506Z
UID:37021-1649755800-1649758500@joyfullearningcanada.ca
SUMMARY:Virtual Author Visit | Sally J. Pla - Benji\, The Bad Day\, and Me
DESCRIPTION:
URL:https://joyfullearningcanada.ca/event/virtual-author-visit-sally-j-pla-benji-the-bad-day-and-me/
CATEGORIES:Author Visits,Disability Awareness,On Demand Events
ATTACH;FMTTYPE=image/png:https://joyfullearningcanada.ca/wp-content/uploads/2022/10/Author-Visits-Sally-J-Pla-Autism-Disability-Awareness.png
END:VEVENT
BEGIN:VEVENT
DTSTART;TZID=America/Vancouver:20220413T093000
DTEND;TZID=America/Vancouver:20220413T103000
DTSTAMP:20260420T144108
CREATED:20220413T163023Z
LAST-MODIFIED:20221022T205555Z
UID:37033-1649842200-1649845800@joyfullearningcanada.ca
SUMMARY:Virtual Field Trip | Lynn Canyon Ecology Centre - Once Upon a Tree
DESCRIPTION:
URL:https://joyfullearningcanada.ca/event/virtual-field-trip-lynn-canyon-ecology-centre-once-upon-a-tree/
CATEGORIES:On Demand Events,We Are All Connected
ATTACH;FMTTYPE=image/png:https://joyfullearningcanada.ca/wp-content/uploads/2022/10/Lynn-Canyon-Ecology-Centre-Virtual-field-Trip-Once-Upon-a-Tree.png
END:VEVENT
BEGIN:VEVENT
DTSTART;TZID=America/Vancouver:20220419T093000
DTEND;TZID=America/Vancouver:20220419T101500
DTSTAMP:20260420T144108
CREATED:20221020T164521Z
LAST-MODIFIED:20221020T190545Z
UID:37007-1650360600-1650363300@joyfullearningcanada.ca
SUMMARY:Virtual Author Visit | Ginalina - The Lively Forest
DESCRIPTION:
URL:https://joyfullearningcanada.ca/event/virtual-author-visit-ginalina-the-lively-forest/
CATEGORIES:Author Visits,On Demand Events,We Are All Connected
ATTACH;FMTTYPE=image/png:https://joyfullearningcanada.ca/wp-content/uploads/2022/10/Author-Visit-Ginalina-The-Lively-Forest-Earth-Month.png
END:VEVENT
BEGIN:VEVENT
DTSTART;TZID=America/Vancouver:20220420T093000
DTEND;TZID=America/Vancouver:20220420T101500
DTSTAMP:20260420T144108
CREATED:20220420T163039Z
LAST-MODIFIED:20221022T213203Z
UID:37040-1650447000-1650449700@joyfullearningcanada.ca
SUMMARY:Virtual Field Trip | Ocean Wise - Forests in the Ocean?
DESCRIPTION:
URL:https://joyfullearningcanada.ca/event/virtual-field-trip-nature-kids-bc-exploring-our-forests/
CATEGORIES:On Demand Events,We Are All Connected
ATTACH;FMTTYPE=image/png:https://joyfullearningcanada.ca/wp-content/uploads/2022/10/Ocean-Wise-Virtual-Field-Trip-Exploring-Kelp-Forests.png
END:VEVENT
BEGIN:VEVENT
DTSTART;TZID=America/Vancouver:20220422T093000
DTEND;TZID=America/Vancouver:20220422T101500
DTSTAMP:20260420T144108
CREATED:20220422T163003Z
LAST-MODIFIED:20221022T204357Z
UID:37023-1650619800-1650622500@joyfullearningcanada.ca
SUMMARY:Virtual Field Trip | Earth Rangers - Animal Meet and Greet
DESCRIPTION:
URL:https://joyfullearningcanada.ca/event/virtual-field-trip-earth-rangers-animal-meet-and-greet/
CATEGORIES:On Demand Events,We Are All Connected
ATTACH;FMTTYPE=image/png:https://joyfullearningcanada.ca/wp-content/uploads/2022/10/Earth-Rangers-Virtual-field-Trip-Animal-Meet-Greet-1.png
END:VEVENT
BEGIN:VEVENT
DTSTART;TZID=America/Vancouver:20220426T093000
DTEND;TZID=America/Vancouver:20220426T101500
DTSTAMP:20260420T144108
CREATED:20220426T163007Z
LAST-MODIFIED:20221020T200536Z
UID:37016-1650965400-1650968100@joyfullearningcanada.ca
SUMMARY:Virtual Author Visit | Lindsey Rowe Parker - Our 8 Senses
DESCRIPTION:
URL:https://joyfullearningcanada.ca/event/virtual-author-visit-lindsey-rowe-parker-wiggles-stomps-and-squeezes-calm-my-jitters-down/
CATEGORIES:Author Visits,Disability Awareness,On Demand Events
ATTACH;FMTTYPE=image/png:https://joyfullearningcanada.ca/wp-content/uploads/2022/10/Author-Visit-Lindsey-Rowe-Parker-Disability-Awareness.png
END:VEVENT
BEGIN:VEVENT
DTSTART;TZID=America/Vancouver:20220427T110000
DTEND;TZID=America/Vancouver:20220427T115500
DTSTAMP:20260420T144108
CREATED:20220427T180021Z
LAST-MODIFIED:20221017T070919Z
UID:36572-1651057200-1651060500@joyfullearningcanada.ca
SUMMARY:Coast Salish Art | Lesson 6 - Woolly Dog
DESCRIPTION:
URL:https://joyfullearningcanada.ca/event/coast-salish-art-lesson-6-woolly-dog/
CATEGORIES:Coast Salish Art,Indigenous Voices,On Demand Events
ATTACH;FMTTYPE=image/jpeg:https://joyfullearningcanada.ca/wp-content/uploads/2022/10/9c3c73cf1e1a85106f3ceac90d516729-IXgR2X.tmp_.jpg
END:VEVENT
END:VCALENDAR