BEGIN:VCALENDAR
VERSION:2.0
PRODID:-//Joyful Learning Canada - ECPv6.15.20//NONSGML v1.0//EN
CALSCALE:GREGORIAN
METHOD:PUBLISH
X-ORIGINAL-URL:https://joyfullearningcanada.ca
X-WR-CALDESC:Events for Joyful Learning Canada
REFRESH-INTERVAL;VALUE=DURATION:PT1H
X-Robots-Tag:noindex
X-PUBLISHED-TTL:PT1H
BEGIN:VTIMEZONE
TZID:America/Vancouver
BEGIN:DAYLIGHT
TZOFFSETFROM:-0800
TZOFFSETTO:-0700
TZNAME:PDT
DTSTART:20210314T100000
END:DAYLIGHT
BEGIN:STANDARD
TZOFFSETFROM:-0700
TZOFFSETTO:-0800
TZNAME:PST
DTSTART:20211107T090000
END:STANDARD
BEGIN:DAYLIGHT
TZOFFSETFROM:-0800
TZOFFSETTO:-0700
TZNAME:PDT
DTSTART:20220313T100000
END:DAYLIGHT
BEGIN:STANDARD
TZOFFSETFROM:-0700
TZOFFSETTO:-0800
TZNAME:PST
DTSTART:20221106T090000
END:STANDARD
BEGIN:DAYLIGHT
TZOFFSETFROM:-0800
TZOFFSETTO:-0700
TZNAME:PDT
DTSTART:20230312T100000
END:DAYLIGHT
BEGIN:STANDARD
TZOFFSETFROM:-0700
TZOFFSETTO:-0800
TZNAME:PST
DTSTART:20231105T090000
END:STANDARD
END:VTIMEZONE
BEGIN:VEVENT
DTSTART;TZID=America/Vancouver:20220602T093000
DTEND;TZID=America/Vancouver:20220602T101500
DTSTAMP:20260420T112938
CREATED:20220602T163023Z
LAST-MODIFIED:20221020T200459Z
UID:37010-1654162200-1654164900@joyfullearningcanada.ca
SUMMARY:Virtual Author Visit | James Catchpole - What Happened To You?
DESCRIPTION:
URL:https://joyfullearningcanada.ca/event/virtual-author-visit-catchpole-what-happened-to-you/
CATEGORIES:Author Visits,Disability Awareness,On Demand Events
ATTACH;FMTTYPE=image/png:https://joyfullearningcanada.ca/wp-content/uploads/2022/10/Author-Visit-James-Catchpole-Disability-Awareness.png
END:VEVENT
BEGIN:VEVENT
DTSTART;TZID=America/Vancouver:20220609T110000
DTEND;TZID=America/Vancouver:20220609T114500
DTSTAMP:20260420T112938
CREATED:20220609T180043Z
LAST-MODIFIED:20221022T200705Z
UID:37055-1654772400-1654775100@joyfullearningcanada.ca
SUMMARY:Pow Wow Dance | Lesson 3 - David Whitebean
DESCRIPTION:
URL:https://joyfullearningcanada.ca/event/pow-wow-dance-lesson-3-david-whitebean/
CATEGORIES:Indigenous Voices,On Demand Events
ATTACH;FMTTYPE=image/png:https://joyfullearningcanada.ca/wp-content/uploads/2022/10/Pow-Wow-Dance-David-Whitebean-Indigenous-Voices.png
END:VEVENT
BEGIN:VEVENT
DTSTART;TZID=America/Vancouver:20220621T110000
DTEND;TZID=America/Vancouver:20220621T115500
DTSTAMP:20260420T112938
CREATED:20220621T180000Z
LAST-MODIFIED:20221017T070530Z
UID:36565-1655809200-1655812500@joyfullearningcanada.ca
SUMMARY:Coast Salish Art | Lesson 7 - Flea
DESCRIPTION:
URL:https://joyfullearningcanada.ca/event/coast-salish-art-lesson-7-flea/
CATEGORIES:Coast Salish Art,Indigenous Voices,On Demand Events
ATTACH;FMTTYPE=image/jpeg:https://joyfullearningcanada.ca/wp-content/uploads/2022/10/a7f8107cc67bbdc4b4f48da85efd4f47-9CzqiK.tmp_.jpg
END:VEVENT
END:VCALENDAR