BEGIN:VCALENDAR
VERSION:2.0
PRODID:-//Joyful Learning Canada - ECPv6.15.20//NONSGML v1.0//EN
CALSCALE:GREGORIAN
METHOD:PUBLISH
X-WR-CALNAME:Joyful Learning Canada
X-ORIGINAL-URL:https://joyfullearningcanada.ca
X-WR-CALDESC:Events for Joyful Learning Canada
REFRESH-INTERVAL;VALUE=DURATION:PT1H
X-Robots-Tag:noindex
X-PUBLISHED-TTL:PT1H
BEGIN:VTIMEZONE
TZID:America/Vancouver
BEGIN:DAYLIGHT
TZOFFSETFROM:-0800
TZOFFSETTO:-0700
TZNAME:PDT
DTSTART:20210314T100000
END:DAYLIGHT
BEGIN:STANDARD
TZOFFSETFROM:-0700
TZOFFSETTO:-0800
TZNAME:PST
DTSTART:20211107T090000
END:STANDARD
BEGIN:DAYLIGHT
TZOFFSETFROM:-0800
TZOFFSETTO:-0700
TZNAME:PDT
DTSTART:20220313T100000
END:DAYLIGHT
BEGIN:STANDARD
TZOFFSETFROM:-0700
TZOFFSETTO:-0800
TZNAME:PST
DTSTART:20221106T090000
END:STANDARD
BEGIN:DAYLIGHT
TZOFFSETFROM:-0800
TZOFFSETTO:-0700
TZNAME:PDT
DTSTART:20230312T100000
END:DAYLIGHT
BEGIN:STANDARD
TZOFFSETFROM:-0700
TZOFFSETTO:-0800
TZNAME:PST
DTSTART:20231105T090000
END:STANDARD
END:VTIMEZONE
BEGIN:VEVENT
DTSTART;TZID=America/Vancouver:20220927T093000
DTEND;TZID=America/Vancouver:20220927T103000
DTSTAMP:20260420T065039
CREATED:20221124T204541Z
LAST-MODIFIED:20221124T211805Z
UID:38023-1664271000-1664274600@joyfullearningcanada.ca
SUMMARY:Virtual Author Visit | Nicola Campbell - Orange Shirt Day
DESCRIPTION:
URL:https://joyfullearningcanada.ca/event/virtual-author-visit-nicola-campbell-orange-shirt-day/
CATEGORIES:Author Visits,Indigenous Voices,On Demand Events
ATTACH;FMTTYPE=image/png:https://joyfullearningcanada.ca/wp-content/uploads/2022/10/Author-Visit-Nicola-Campbell-Orange-Shirt-Day-Shi-shi-etko.png
END:VEVENT
BEGIN:VEVENT
DTSTART;TZID=America/Vancouver:20220929T110000
DTEND;TZID=America/Vancouver:20220929T115500
DTSTAMP:20260420T065039
CREATED:20221013T165551Z
LAST-MODIFIED:20221017T070351Z
UID:36550-1664449200-1664452500@joyfullearningcanada.ca
SUMMARY:Coast Salish Art | Lesson 8 - Sea Otter | Orange Shirt Day
DESCRIPTION:
URL:https://joyfullearningcanada.ca/event/coast-salish-art-lesson-9-sea-otter-orange-shirt-day/
CATEGORIES:Coast Salish Art,Indigenous Voices,On Demand Events
ATTACH;FMTTYPE=image/jpeg:https://joyfullearningcanada.ca/wp-content/uploads/2022/10/44cdf85bb1fb303a6523d7886a4c00f1-5boEwX.tmp_.jpg
END:VEVENT
END:VCALENDAR