BEGIN:VCALENDAR
VERSION:2.0
PRODID:-//Joyful Learning Canada - ECPv6.15.20//NONSGML v1.0//EN
CALSCALE:GREGORIAN
METHOD:PUBLISH
X-ORIGINAL-URL:https://joyfullearningcanada.ca
X-WR-CALDESC:Events for Joyful Learning Canada
REFRESH-INTERVAL;VALUE=DURATION:PT1H
X-Robots-Tag:noindex
X-PUBLISHED-TTL:PT1H
BEGIN:VTIMEZONE
TZID:America/Vancouver
BEGIN:DAYLIGHT
TZOFFSETFROM:-0800
TZOFFSETTO:-0700
TZNAME:PDT
DTSTART:20220313T100000
END:DAYLIGHT
BEGIN:STANDARD
TZOFFSETFROM:-0700
TZOFFSETTO:-0800
TZNAME:PST
DTSTART:20221106T090000
END:STANDARD
BEGIN:DAYLIGHT
TZOFFSETFROM:-0800
TZOFFSETTO:-0700
TZNAME:PDT
DTSTART:20230312T100000
END:DAYLIGHT
BEGIN:STANDARD
TZOFFSETFROM:-0700
TZOFFSETTO:-0800
TZNAME:PST
DTSTART:20231105T090000
END:STANDARD
BEGIN:DAYLIGHT
TZOFFSETFROM:-0800
TZOFFSETTO:-0700
TZNAME:PDT
DTSTART:20240310T100000
END:DAYLIGHT
BEGIN:STANDARD
TZOFFSETFROM:-0700
TZOFFSETTO:-0800
TZNAME:PST
DTSTART:20241103T090000
END:STANDARD
END:VTIMEZONE
BEGIN:VEVENT
DTSTART;TZID=America/Vancouver:20230418T093000
DTEND;TZID=America/Vancouver:20230418T101500
DTSTAMP:20260419T195615
CREATED:20230411T174553Z
LAST-MODIFIED:20230412T071828Z
UID:39017-1681810200-1681812900@joyfullearningcanada.ca
SUMMARY:EARTH DAY | Poetry Workshop with Adrienne Gear
DESCRIPTION:In celebration of National Poetry Month\, join BC Teacher and author Adrienne Gear as she leads students in a virtual poetry writing workshop. \nAdrienne will begin with a brief introduction to poetry: what a poem looks like\, sounds like\, makes us think about\, and makes us feel. \nThen it’s time to write!  Using a theme of “Beauty in Nature”\, Adrienne will model how to write an “Opposite Poem”. \nStudents will be inspired to choose their own “opposite” topic and try using rich language to describe the beauty of their opposites.
URL:https://joyfullearningcanada.ca/event/earth-day-poetry-workshop-with-adrienne-gear/
CATEGORIES:Author Visits,We Are All Connected
ATTACH;FMTTYPE=image/png:https://joyfullearningcanada.ca/wp-content/uploads/2023/04/JLC-Poetry-Workshop-AG.png
END:VEVENT
BEGIN:VEVENT
DTSTART;TZID=America/Vancouver:20230420T093000
DTEND;TZID=America/Vancouver:20230420T101500
DTSTAMP:20260419T195615
CREATED:20221122T211523Z
LAST-MODIFIED:20230417T044243Z
UID:37829-1681983000-1681985700@joyfullearningcanada.ca
SUMMARY:EARTH DAY | Virtual Author Visit - Leona Prince
DESCRIPTION:Join us for a special Earth Day author visit with Leona Prince author of Be A Good Ancestor – a beautifully published picture book that uses a repeated call to action to remind young readers that everything in our world is connected.  
URL:https://joyfullearningcanada.ca/event/vav-earthday/
CATEGORIES:Author Visits,Indigenous Voices,We Are All Connected
ATTACH;FMTTYPE=image/png:https://joyfullearningcanada.ca/wp-content/uploads/2022/11/JLC-Website-Event-Images-1200-×-628-px-1.png
END:VEVENT
BEGIN:VEVENT
DTSTART;TZID=America/Vancouver:20230427T110000
DTEND;TZID=America/Vancouver:20230427T235500
DTSTAMP:20260419T195615
CREATED:20221122T210233Z
LAST-MODIFIED:20230109T212031Z
UID:37818-1682593200-1682639700@joyfullearningcanada.ca
SUMMARY:Coast Salish Art | Lesson 13 - Mouse
DESCRIPTION:Join us for another Coast Salish Art class! \nThis class will include a traditional oral story\, drawing practice of the basic Coast Salish shapes\, and a guided drawing of an animal from the story. \nAndrea is from the Lyackson First Nation of the Hul’qumi’num speaking Peoples\, who are based on Valdez Island in the Salish Sea. Andrea strives to express her People’s history and all our futures using her art. She focuses on animals and scenes of the West Coast of Canada and our intricate relationships with them. \nEvent Details\nWHAT: Art Class with Andrea Fritz\nDATE: Thursday\, April 27th\, 2023 @ 11am PT\nLENGTH: 45 Minutes\nDESIGNED FOR: Grade 2-5 – Everyone Welcome\nANIMAL: TBA \n  \n\n\n 
URL:https://joyfullearningcanada.ca/event/coast-salish-art-lesson-13/
CATEGORIES:Coast Salish Art,Indigenous Voices
ATTACH;FMTTYPE=image/png:https://joyfullearningcanada.ca/wp-content/uploads/2023/01/JLC-Website-Event-Images-1200-×-628-px.png
END:VEVENT
END:VCALENDAR